BEGIN:VCALENDAR
VERSION:2.0
PRODID:-//100.7 Ferndale Radio - ECPv6.15.20//NONSGML v1.0//EN
CALSCALE:GREGORIAN
METHOD:PUBLISH
X-ORIGINAL-URL:https://ferndaleradio.com
X-WR-CALDESC:Events for 100.7 Ferndale Radio
REFRESH-INTERVAL;VALUE=DURATION:PT1H
X-Robots-Tag:noindex
X-PUBLISHED-TTL:PT1H
BEGIN:VTIMEZONE
TZID:America/Detroit
BEGIN:DAYLIGHT
TZOFFSETFROM:-0500
TZOFFSETTO:-0400
TZNAME:EDT
DTSTART:20250309T070000
END:DAYLIGHT
BEGIN:STANDARD
TZOFFSETFROM:-0400
TZOFFSETTO:-0500
TZNAME:EST
DTSTART:20251102T060000
END:STANDARD
BEGIN:DAYLIGHT
TZOFFSETFROM:-0500
TZOFFSETTO:-0400
TZNAME:EDT
DTSTART:20260308T070000
END:DAYLIGHT
BEGIN:STANDARD
TZOFFSETFROM:-0400
TZOFFSETTO:-0500
TZNAME:EST
DTSTART:20261101T060000
END:STANDARD
BEGIN:DAYLIGHT
TZOFFSETFROM:-0500
TZOFFSETTO:-0400
TZNAME:EDT
DTSTART:20270314T070000
END:DAYLIGHT
BEGIN:STANDARD
TZOFFSETFROM:-0400
TZOFFSETTO:-0500
TZNAME:EST
DTSTART:20271107T060000
END:STANDARD
END:VTIMEZONE
BEGIN:VEVENT
DTSTART;TZID=America/Detroit:20260127T180000
DTEND;TZID=America/Detroit:20260127T190000
DTSTAMP:20260423T134308
CREATED:20260124T170220Z
LAST-MODIFIED:20260124T170220Z
UID:2146-1769536800-1769540400@ferndaleradio.com
SUMMARY:Ferndale Library Reading Rainbow
DESCRIPTION:The Ferndale Library and Affirmations co-host a social club/book club for kids in grades 4-8\, meeting on the fourth Tuesday of each month at 6 p.m. in the library’s program room. \nThis is a social hour that includes a book discussion. Each month\, attendees have the chance to read and then discuss a selected book at the Reading Rainbow. Kids don’t have to have finished – or even started the book – to attend the Reading Rainbow; the rest of the hour is free time dedicated to socializing/crafting/hanging out together\, \nYou can pick up a copy of this month’s book at the Ferndale Library. \nOn January 27\, the group will discuss “Operatic” by Kyo Maclear. The evocatively illustrated graphic novel brilliantly captures the high drama of middle school by focusing on the desire of its finely drawn characters to sing and be heard. \nSign up at getlocalhop.com.
URL:https://ferndaleradio.com/event/ferndale-library-reading-rainbow/
LOCATION:Ferndale Area District Library\, 222 E 9 Mile Rd\, Ferndale\, 48220\, United States
ATTACH;FMTTYPE=image/png:https://ferndaleradio.com/wp-content/uploads/2026/01/Ferndale-Library-Reading-Rainbow-Header.png
END:VEVENT
END:VCALENDAR