BEGIN:VCALENDAR
VERSION:2.0
PRODID:-//100.7 Ferndale Radio - ECPv6.15.20//NONSGML v1.0//EN
CALSCALE:GREGORIAN
METHOD:PUBLISH
X-WR-CALNAME:100.7 Ferndale Radio
X-ORIGINAL-URL:https://ferndaleradio.com
X-WR-CALDESC:Events for 100.7 Ferndale Radio
REFRESH-INTERVAL;VALUE=DURATION:PT1H
X-Robots-Tag:noindex
X-PUBLISHED-TTL:PT1H
BEGIN:VTIMEZONE
TZID:America/Detroit
BEGIN:DAYLIGHT
TZOFFSETFROM:-0500
TZOFFSETTO:-0400
TZNAME:EDT
DTSTART:20240310T070000
END:DAYLIGHT
BEGIN:STANDARD
TZOFFSETFROM:-0400
TZOFFSETTO:-0500
TZNAME:EST
DTSTART:20241103T060000
END:STANDARD
BEGIN:DAYLIGHT
TZOFFSETFROM:-0500
TZOFFSETTO:-0400
TZNAME:EDT
DTSTART:20250309T070000
END:DAYLIGHT
BEGIN:STANDARD
TZOFFSETFROM:-0400
TZOFFSETTO:-0500
TZNAME:EST
DTSTART:20251102T060000
END:STANDARD
BEGIN:DAYLIGHT
TZOFFSETFROM:-0500
TZOFFSETTO:-0400
TZNAME:EDT
DTSTART:20260308T070000
END:DAYLIGHT
BEGIN:STANDARD
TZOFFSETFROM:-0400
TZOFFSETTO:-0500
TZNAME:EST
DTSTART:20261101T060000
END:STANDARD
BEGIN:DAYLIGHT
TZOFFSETFROM:-0500
TZOFFSETTO:-0400
TZNAME:EDT
DTSTART:20270314T070000
END:DAYLIGHT
BEGIN:STANDARD
TZOFFSETFROM:-0400
TZOFFSETTO:-0500
TZNAME:EST
DTSTART:20271107T060000
END:STANDARD
END:VTIMEZONE
BEGIN:VEVENT
DTSTART;TZID=America/Detroit:20260410T190000
DTEND;TZID=America/Detroit:20260410T223000
DTSTAMP:20260423T124114
CREATED:20260211T044848Z
LAST-MODIFIED:20260211T044848Z
UID:2191-1775847600-1775860200@ferndaleradio.com
SUMMARY:Lala Lala at the Lager House
DESCRIPTION:100.7 Ferndale Radio and Kickstand Productions present Sub Pop recording artist Lala Lala live April 10 at the Lager House in Detroit’s historic Corktown neighborhood. \nLala Lala will perform songs from her new album Heaven 2. \n \nTickets are on sale at eventmi.us. Enter for a chance to win tickets HERE.
URL:https://ferndaleradio.com/event/lala-lala-at-the-lager-house/
LOCATION:Lager House\, 1254 Michigan Ave\, Detroit\, MI\, 48226\, United States
CATEGORIES:Concert
ATTACH;FMTTYPE=image/jpeg:https://ferndaleradio.com/wp-content/uploads/2026/02/lalalala-2025-promo-05-arielfish-2239x1500-300-e1770783224660.jpg
END:VEVENT
BEGIN:VEVENT
DTSTART;TZID=America/Detroit:20260403T190000
DTEND;TZID=America/Detroit:20260403T223000
DTSTAMP:20260423T124114
CREATED:20260105T220310Z
LAST-MODIFIED:20260105T220310Z
UID:2101-1775242800-1775255400@ferndaleradio.com
SUMMARY:Ferndale Radio Presents Matt Pryor at The Loving Touch
DESCRIPTION:100.7 Ferndale Radio presents Matt Pryor & The Salton Sea at The Loving Touch in Ferndale on Friday\, April 3\, 2026! Special guests include Small Uncle and Ryan Allen. \nThe Get Up Kids co-founder returns with his seventh solo studio album The Salton Sea\, available now. \nTickets are on sale at ticketweb.com.
URL:https://ferndaleradio.com/event/ferndale-radio-presents-matt-pryor-at-the-loving-touch/
LOCATION:The Loving Touch\, 22634 Woodward Ave\, Ferndale\, MI\, 48220\, United States
CATEGORIES:Concert
ATTACH;FMTTYPE=image/jpeg:https://ferndaleradio.com/wp-content/uploads/2026/01/Matt-Pryor.jpg
END:VEVENT
BEGIN:VEVENT
DTSTART;TZID=America/Detroit:20260319T190000
DTEND;TZID=America/Detroit:20260319T223000
DTSTAMP:20260423T124114
CREATED:20260211T043732Z
LAST-MODIFIED:20260211T043732Z
UID:2188-1773946800-1773959400@ferndaleradio.com
SUMMARY:twen at the Lager House
DESCRIPTION:100.7 Ferndale Radio and Kickstand Productions present twen live on March 19 at the Lager House in Detroit’s historic Corktown neighborhood. \nThe Nashville-based indie rockers will perform songs from their latest album Fate Euphoric. \n \nTickets are on sale at thelagerhouse.com. Enter for a chance to win tickets HERE.
URL:https://ferndaleradio.com/event/twen-at-the-lager-house/
LOCATION:Lager House\, 1254 Michigan Ave\, Detroit\, MI\, 48226\, United States
CATEGORIES:Concert
ATTACH;FMTTYPE=image/jpeg:https://ferndaleradio.com/wp-content/uploads/2026/02/Twen-e1770780523575.jpg
END:VEVENT
BEGIN:VEVENT
DTSTART;TZID=America/Detroit:20260203T190000
DTEND;TZID=America/Detroit:20260203T223000
DTSTAMP:20260423T124114
CREATED:20260124T171229Z
LAST-MODIFIED:20260124T171229Z
UID:2142-1770145200-1770157800@ferndaleradio.com
SUMMARY:Daffo at Lager House
DESCRIPTION:100.7 Ferndale Radio welcomes indie artist Daffo Feb. 3 to the Lager House in Detroit’s historic Corktown neighborhood. \nDaffo will perform songs from their latest album Where the Earth Bends. \n \nEnter for a chance to win tickets to the show from Ferndale Radio HERE. \nToronto’s earth 2 tiffany will open the show. Tickets are on sale at eventim.us.
URL:https://ferndaleradio.com/event/daffo-at-lager-house/
LOCATION:Lager House\, 1254 Michigan Ave\, Detroit\, MI\, 48226\, United States
CATEGORIES:Concert
ATTACH;FMTTYPE=image/jpeg:https://ferndaleradio.com/wp-content/uploads/2026/01/Daffo-2025.jpg
END:VEVENT
BEGIN:VEVENT
DTSTART;TZID=America/Detroit:20260113T190000
DTEND;TZID=America/Detroit:20260113T223000
DTSTAMP:20260423T124114
CREATED:20251222T180317Z
LAST-MODIFIED:20251222T180317Z
UID:2082-1768330800-1768343400@ferndaleradio.com
SUMMARY:Ferndale Radio Presents Brian Aubert at Sanctuary Detroit
DESCRIPTION:100.7 Ferndale Radio presents Brian Aubert for a solo acoustic show at the Sanctuary Detroit in Hamtramck\, Mich. on Tuesday\, Jan. 13. \nThe Silversun Pickups frontman will be joined by Che Arthur and SSPU drummer Christopher Guanlao under his CROONeR solo project. Tickets are on sale at ticketweb.com.
URL:https://ferndaleradio.com/event/ferndale-radio-presents-brian-aubert-at-sanctuary-detroit/
LOCATION:Sanctuary Detroit\, 2932 Caniff St\, Hamtramck\, 48212\, United States
CATEGORIES:Concert
ATTACH;FMTTYPE=image/jpeg:https://ferndaleradio.com/wp-content/uploads/2025/12/Brian-aubert-e1765301590938.jpg
END:VEVENT
BEGIN:VEVENT
DTSTART;TZID=America/Detroit:20251206T190000
DTEND;TZID=America/Detroit:20251206T223000
DTSTAMP:20260423T124114
CREATED:20251111T020612Z
LAST-MODIFIED:20251111T020612Z
UID:2034-1765047600-1765060200@ferndaleradio.com
SUMMARY:The Happy Fits at Saint Andrew's Hall
DESCRIPTION:100.7 Ferndale Radio welcomes The Happy Fits to Detroit on Saturday\, Dec. 6\, at Saint Andrew’s Hall. The New Jersey indie rockers will perform songs from their latest album\, Lovesick. \nSpecial guests include Phoneboy and DOUBLE STANDARD. \nTickets are on sale at ticketmaster.com and at the venue box office. Enter for a chance to win a pair of tickets to the show from Ferndale Radio here.
URL:https://ferndaleradio.com/event/the-happy-fits-at-saint-andrews-hall/
LOCATION:Saint Andrew’s Hall\, 431 E Congress St\, Detroit\, MI\, 48226
CATEGORIES:Concert
ATTACH;FMTTYPE=image/jpeg:https://ferndaleradio.com/wp-content/uploads/2025/11/Happy-Fits_@ANNAKOBLISH-scaled-e1762811237723.jpg
END:VEVENT
BEGIN:VEVENT
DTSTART;TZID=America/Detroit:20251128T190000
DTEND;TZID=America/Detroit:20251128T223000
DTSTAMP:20260423T124114
CREATED:20251010T143833Z
LAST-MODIFIED:20251010T150550Z
UID:1962-1764356400-1764369000@ferndaleradio.com
SUMMARY:Ferndale Radio Presents Algernon Cadwallader at The Loving Touch
DESCRIPTION:Pennsylvania’s Algernon Cadwallader brings Midwest emo to Ferndale on Black Friday\, November 28\, at The Loving Touch! \nAlgernon Cadwallader will perform songs from their latest album\, Trying Not to Have a Thought\, their first in 14 years. Special guests include Gladie and the return of Michigan’s own Shortly. \n \nTickets are on sale now at ticketweb.com. \nPresented by 100.7 Ferndale Radio and Kickstand Productions.
URL:https://ferndaleradio.com/event/ferndale-radio-presents-algernon-cadwallader-at-the-loving-touch/
LOCATION:The Loving Touch\, 22634 Woodward Ave\, Ferndale\, MI\, 48220\, United States
CATEGORIES:Concert
ATTACH;FMTTYPE=image/jpeg:https://ferndaleradio.com/wp-content/uploads/2025/10/algernon-presspic.jpeg
END:VEVENT
BEGIN:VEVENT
DTSTART;TZID=America/Detroit:20251003T190000
DTEND;TZID=America/Detroit:20251003T220000
DTSTAMP:20260423T124114
CREATED:20250918T144943Z
LAST-MODIFIED:20250918T144943Z
UID:1921-1759518000-1759528800@ferndaleradio.com
SUMMARY:Ferndale Radio Presents Laura Stevenson at Sanctuary Detroit
DESCRIPTION:100.7 Ferndale Radio and Kickstand Productions present Laura Stevenson\, with special guests Oceanator and Katie Malco\, Oct. 3 at the Sanctuary Detroit in Hamtramck. The Long Island native will perform songs from her latest album\, Late Great. \n \nTickets are on sale now at ticketweb.com. \nEnter to win tickets to the show at ferndaleradio.com/laura.
URL:https://ferndaleradio.com/event/ferndale-radio-presents-laura-stevenson-at-sanctuary-detroit/
LOCATION:Sanctuary Detroit\, 2932 Caniff St\, Hamtramck\, 48212\, United States
CATEGORIES:Concert
ATTACH;FMTTYPE=image/jpeg:https://ferndaleradio.com/wp-content/uploads/2025/09/LAURA-LEAD-PHOTO-SMLR-e1758203948895.jpg
END:VEVENT
BEGIN:VEVENT
DTSTART;TZID=America/Detroit:20250930T183000
DTEND;TZID=America/Detroit:20250930T220000
DTSTAMP:20260423T124114
CREATED:20250918T143749Z
LAST-MODIFIED:20250918T143749Z
UID:1916-1759257000-1759269600@ferndaleradio.com
SUMMARY:Ferndale Radio Presents Pool Kids at Sanctuary Detroit
DESCRIPTION:100.7 Ferndale Radio and Kickstand Productions present Pool Kids\, with special guests Truth Club and Pony\, Sept. 30 at the Sanctuary Detroit in Hamtramck. The Florida math rock band will perform songs from their latest album\, Easier Said Than Done. \n \nTickets are on sale now at ticketweb.com. \nClick here to enter for a chance to win a pair of tickets to the show.
URL:https://ferndaleradio.com/event/pool-kids-at-sanctuary-detroit/
LOCATION:Sanctuary Detroit\, 2932 Caniff St\, Hamtramck\, 48212\, United States
CATEGORIES:Concert
ATTACH;FMTTYPE=image/png:https://ferndaleradio.com/wp-content/uploads/2025/09/Pool-Kids-e1758030829272.png
END:VEVENT
BEGIN:VEVENT
DTSTART;TZID=America/Detroit:20250919T180000
DTEND;TZID=America/Detroit:20250921T210000
DTSTAMP:20260423T124114
CREATED:20250910T222224Z
LAST-MODIFIED:20250910T222224Z
UID:1891-1758304800-1758488400@ferndaleradio.com
SUMMARY:DIY Street Fair 2025
DESCRIPTION:100.7 Ferndale Radio welcomes the 2025 DIY Street Fair Sept. 19-21 in downtown Ferndale\, Michigan. Check out handmade crafts from independent artists\, delicious food and live music headlined by JR JR\, Michigan Rattlers and Agent Orange. See the full lineup at ferndalediy.com. \nThis event is free to the public.
URL:https://ferndaleradio.com/event/diy-street-fair-2025/
LOCATION:MI
CATEGORIES:Concert,Festival
ATTACH;FMTTYPE=image/webp:https://ferndaleradio.com/wp-content/uploads/2025/09/DIY-Street-Fair-e1757542843205.webp
END:VEVENT
BEGIN:VEVENT
DTSTART;TZID=America/Detroit:20250912T200000
DTEND;TZID=America/Detroit:20250912T230000
DTSTAMP:20260423T124114
CREATED:20250910T220545Z
LAST-MODIFIED:20250910T220545Z
UID:1885-1757707200-1757718000@ferndaleradio.com
SUMMARY:Quinn XCII and Wild Rivers at Freedom Hill
DESCRIPTION:100.7 Ferndale Radio welcomes Michigan native Quinn XCII and Toronto folk trio Wild Rivers to the Michigan Lottery Amphitheatre at Freedom Hill on Friday\, Sept. 12. Tickets are available at the venue box office and ticketmaster.com. \n \n \n 
URL:https://ferndaleradio.com/event/quinn-xcii-and-wild-rivers-at-freedom-hill/
LOCATION:Michigan Lottery Amphitheatre\, 14900 Metropolitan Parkway\, Sterling Heights\, MI\, 48312\, United States
CATEGORIES:Concert
ATTACH;FMTTYPE=image/jpeg:https://ferndaleradio.com/wp-content/uploads/2025/08/Wild-Rivers-Quinn-XCII-16x9-1.jpg
END:VEVENT
END:VCALENDAR