BEGIN:VCALENDAR
VERSION:2.0
PRODID:-//100.7 Ferndale Radio - ECPv6.15.20//NONSGML v1.0//EN
CALSCALE:GREGORIAN
METHOD:PUBLISH
X-WR-CALNAME:100.7 Ferndale Radio
X-ORIGINAL-URL:https://ferndaleradio.com
X-WR-CALDESC:Events for 100.7 Ferndale Radio
REFRESH-INTERVAL;VALUE=DURATION:PT1H
X-Robots-Tag:noindex
X-PUBLISHED-TTL:PT1H
BEGIN:VTIMEZONE
TZID:America/Detroit
BEGIN:DAYLIGHT
TZOFFSETFROM:-0500
TZOFFSETTO:-0400
TZNAME:EDT
DTSTART:20240310T070000
END:DAYLIGHT
BEGIN:STANDARD
TZOFFSETFROM:-0400
TZOFFSETTO:-0500
TZNAME:EST
DTSTART:20241103T060000
END:STANDARD
BEGIN:DAYLIGHT
TZOFFSETFROM:-0500
TZOFFSETTO:-0400
TZNAME:EDT
DTSTART:20250309T070000
END:DAYLIGHT
BEGIN:STANDARD
TZOFFSETFROM:-0400
TZOFFSETTO:-0500
TZNAME:EST
DTSTART:20251102T060000
END:STANDARD
BEGIN:DAYLIGHT
TZOFFSETFROM:-0500
TZOFFSETTO:-0400
TZNAME:EDT
DTSTART:20260308T070000
END:DAYLIGHT
BEGIN:STANDARD
TZOFFSETFROM:-0400
TZOFFSETTO:-0500
TZNAME:EST
DTSTART:20261101T060000
END:STANDARD
END:VTIMEZONE
BEGIN:VEVENT
DTSTART;TZID=America/Detroit:20250919T120000
DTEND;TZID=America/Detroit:20250921T180000
DTSTAMP:20260424T000944
CREATED:20250919T145939Z
LAST-MODIFIED:20250919T145939Z
UID:1925-1758283200-1758477600@ferndaleradio.com
SUMMARY:Ferndale Vintage Fashion Market Fall 2025
DESCRIPTION:The fall 2025 Ferndale Vintage Fashion Market happens Sept. 19-21 inside the Rust Belt Market in downtown Ferndale. Over 20 authentic vintage clothing vendors will be onsite\, featuring streetwear\, party dresses\, coats\, accessories and more. \nThe market is open Friday from noon-9 p.m.\, Saturday from 11 a.m. to 9 p.m. and Sunday from 11 a.m. to 6 p.m. \nLearn more at Ferndale Vintage Fashion Market’s Instagram page.
URL:https://ferndaleradio.com/event/ferndale-vintage-fashion-market-fall-2025/
LOCATION:Rust Belt Market\, 22801 Woodward Ave\, Ferndale\, Michigan\, 48220\, United States
CATEGORIES:Shopping
ATTACH;FMTTYPE=image/jpeg:https://ferndaleradio.com/wp-content/uploads/2025/09/Ferndale-Vintage-Fashion-Market-scaled.jpg
END:VEVENT
END:VCALENDAR