BEGIN:VCALENDAR
VERSION:2.0
PRODID:-//100.7 Ferndale Radio - ECPv6.15.20//NONSGML v1.0//EN
CALSCALE:GREGORIAN
METHOD:PUBLISH
X-WR-CALNAME:100.7 Ferndale Radio
X-ORIGINAL-URL:https://ferndaleradio.com
X-WR-CALDESC:Events for 100.7 Ferndale Radio
REFRESH-INTERVAL;VALUE=DURATION:PT1H
X-Robots-Tag:noindex
X-PUBLISHED-TTL:PT1H
BEGIN:VTIMEZONE
TZID:America/Detroit
BEGIN:DAYLIGHT
TZOFFSETFROM:-0500
TZOFFSETTO:-0400
TZNAME:EDT
DTSTART:20250309T070000
END:DAYLIGHT
BEGIN:STANDARD
TZOFFSETFROM:-0400
TZOFFSETTO:-0500
TZNAME:EST
DTSTART:20251102T060000
END:STANDARD
BEGIN:DAYLIGHT
TZOFFSETFROM:-0500
TZOFFSETTO:-0400
TZNAME:EDT
DTSTART:20260308T070000
END:DAYLIGHT
BEGIN:STANDARD
TZOFFSETFROM:-0400
TZOFFSETTO:-0500
TZNAME:EST
DTSTART:20261101T060000
END:STANDARD
BEGIN:DAYLIGHT
TZOFFSETFROM:-0500
TZOFFSETTO:-0400
TZNAME:EDT
DTSTART:20270314T070000
END:DAYLIGHT
BEGIN:STANDARD
TZOFFSETFROM:-0400
TZOFFSETTO:-0500
TZNAME:EST
DTSTART:20271107T060000
END:STANDARD
END:VTIMEZONE
BEGIN:VEVENT
DTSTART;TZID=America/Detroit:20260410T190000
DTEND;TZID=America/Detroit:20260410T223000
DTSTAMP:20260423T124715
CREATED:20260211T044848Z
LAST-MODIFIED:20260211T044848Z
UID:2191-1775847600-1775860200@ferndaleradio.com
SUMMARY:Lala Lala at the Lager House
DESCRIPTION:100.7 Ferndale Radio and Kickstand Productions present Sub Pop recording artist Lala Lala live April 10 at the Lager House in Detroit’s historic Corktown neighborhood. \nLala Lala will perform songs from her new album Heaven 2. \n \nTickets are on sale at eventmi.us. Enter for a chance to win tickets HERE.
URL:https://ferndaleradio.com/event/lala-lala-at-the-lager-house/
LOCATION:Lager House\, 1254 Michigan Ave\, Detroit\, MI\, 48226\, United States
CATEGORIES:Concert
ATTACH;FMTTYPE=image/jpeg:https://ferndaleradio.com/wp-content/uploads/2026/02/lalalala-2025-promo-05-arielfish-2239x1500-300-e1770783224660.jpg
END:VEVENT
END:VCALENDAR