BEGIN:VCALENDAR
VERSION:2.0
PRODID:-//100.7 Ferndale Radio - ECPv6.15.20//NONSGML v1.0//EN
CALSCALE:GREGORIAN
METHOD:PUBLISH
X-WR-CALNAME:100.7 Ferndale Radio
X-ORIGINAL-URL:https://ferndaleradio.com
X-WR-CALDESC:Events for 100.7 Ferndale Radio
REFRESH-INTERVAL;VALUE=DURATION:PT1H
X-Robots-Tag:noindex
X-PUBLISHED-TTL:PT1H
BEGIN:VTIMEZONE
TZID:America/Detroit
BEGIN:DAYLIGHT
TZOFFSETFROM:-0500
TZOFFSETTO:-0400
TZNAME:EDT
DTSTART:20240310T070000
END:DAYLIGHT
BEGIN:STANDARD
TZOFFSETFROM:-0400
TZOFFSETTO:-0500
TZNAME:EST
DTSTART:20241103T060000
END:STANDARD
BEGIN:DAYLIGHT
TZOFFSETFROM:-0500
TZOFFSETTO:-0400
TZNAME:EDT
DTSTART:20250309T070000
END:DAYLIGHT
BEGIN:STANDARD
TZOFFSETFROM:-0400
TZOFFSETTO:-0500
TZNAME:EST
DTSTART:20251102T060000
END:STANDARD
BEGIN:DAYLIGHT
TZOFFSETFROM:-0500
TZOFFSETTO:-0400
TZNAME:EDT
DTSTART:20260308T070000
END:DAYLIGHT
BEGIN:STANDARD
TZOFFSETFROM:-0400
TZOFFSETTO:-0500
TZNAME:EST
DTSTART:20261101T060000
END:STANDARD
END:VTIMEZONE
BEGIN:VEVENT
DTSTART;TZID=America/Detroit:20250913T120000
DTEND;TZID=America/Detroit:20250914T160000
DTSTAMP:20260423T162546
CREATED:20250910T215233Z
LAST-MODIFIED:20250910T215233Z
UID:1880-1757764800-1757865600@ferndaleradio.com
SUMMARY:Metro Detroit Webcomicon 2025
DESCRIPTION:Metro Detroit Webcomicon returns September 13 and 14 to the Rust Belt Market in Ferndale\, Michigan. Web comic fans can meet some of their favorite artists and writers\, including New York Times bestselling author of “Strange Planet\,” Nathan Pyle\, It’s Happy Bunny creator Jim Benton\, Sarah Scribbles\, Up and Out creator Julia Kaye and more. Webcomicon also features discussion panels\, drawing workshops and live draw battles. \nSee the full lineup and ticket details at webcomicon.net.
URL:https://ferndaleradio.com/event/metro-detroit-webcomicon-2025/
LOCATION:Rust Belt Market\, 22801 Woodward Ave\, Ferndale\, Michigan\, 48220\, United States
CATEGORIES:Convention
ATTACH;FMTTYPE=image/jpeg:https://ferndaleradio.com/wp-content/uploads/2025/09/Web-Comic-Con-e1757541068533.jpeg
ORGANIZER;CN="The Awkward Yeti LLC":MAILTO:events@theawkwardyeti.com
END:VEVENT
BEGIN:VEVENT
DTSTART;TZID=America/Detroit:20250912T200000
DTEND;TZID=America/Detroit:20250912T230000
DTSTAMP:20260423T162546
CREATED:20250910T220545Z
LAST-MODIFIED:20250910T220545Z
UID:1885-1757707200-1757718000@ferndaleradio.com
SUMMARY:Quinn XCII and Wild Rivers at Freedom Hill
DESCRIPTION:100.7 Ferndale Radio welcomes Michigan native Quinn XCII and Toronto folk trio Wild Rivers to the Michigan Lottery Amphitheatre at Freedom Hill on Friday\, Sept. 12. Tickets are available at the venue box office and ticketmaster.com. \n \n \n 
URL:https://ferndaleradio.com/event/quinn-xcii-and-wild-rivers-at-freedom-hill/
LOCATION:Michigan Lottery Amphitheatre\, 14900 Metropolitan Parkway\, Sterling Heights\, MI\, 48312\, United States
CATEGORIES:Concert
ATTACH;FMTTYPE=image/jpeg:https://ferndaleradio.com/wp-content/uploads/2025/08/Wild-Rivers-Quinn-XCII-16x9-1.jpg
END:VEVENT
END:VCALENDAR