BEGIN:VCALENDAR
VERSION:2.0
PRODID:-//100.7 Ferndale Radio - ECPv6.15.20//NONSGML v1.0//EN
CALSCALE:GREGORIAN
METHOD:PUBLISH
X-ORIGINAL-URL:https://ferndaleradio.com
X-WR-CALDESC:Events for 100.7 Ferndale Radio
REFRESH-INTERVAL;VALUE=DURATION:PT1H
X-Robots-Tag:noindex
X-PUBLISHED-TTL:PT1H
BEGIN:VTIMEZONE
TZID:America/Detroit
BEGIN:DAYLIGHT
TZOFFSETFROM:-0500
TZOFFSETTO:-0400
TZNAME:EDT
DTSTART:20240310T070000
END:DAYLIGHT
BEGIN:STANDARD
TZOFFSETFROM:-0400
TZOFFSETTO:-0500
TZNAME:EST
DTSTART:20241103T060000
END:STANDARD
BEGIN:DAYLIGHT
TZOFFSETFROM:-0500
TZOFFSETTO:-0400
TZNAME:EDT
DTSTART:20250309T070000
END:DAYLIGHT
BEGIN:STANDARD
TZOFFSETFROM:-0400
TZOFFSETTO:-0500
TZNAME:EST
DTSTART:20251102T060000
END:STANDARD
BEGIN:DAYLIGHT
TZOFFSETFROM:-0500
TZOFFSETTO:-0400
TZNAME:EDT
DTSTART:20260308T070000
END:DAYLIGHT
BEGIN:STANDARD
TZOFFSETFROM:-0400
TZOFFSETTO:-0500
TZNAME:EST
DTSTART:20261101T060000
END:STANDARD
END:VTIMEZONE
BEGIN:VEVENT
DTSTART;TZID=America/Detroit:20251206T190000
DTEND;TZID=America/Detroit:20251206T223000
DTSTAMP:20260423T145903
CREATED:20251111T020612Z
LAST-MODIFIED:20251111T020612Z
UID:2034-1765047600-1765060200@ferndaleradio.com
SUMMARY:The Happy Fits at Saint Andrew's Hall
DESCRIPTION:100.7 Ferndale Radio welcomes The Happy Fits to Detroit on Saturday\, Dec. 6\, at Saint Andrew’s Hall. The New Jersey indie rockers will perform songs from their latest album\, Lovesick. \nSpecial guests include Phoneboy and DOUBLE STANDARD. \nTickets are on sale at ticketmaster.com and at the venue box office. Enter for a chance to win a pair of tickets to the show from Ferndale Radio here.
URL:https://ferndaleradio.com/event/the-happy-fits-at-saint-andrews-hall/
LOCATION:Saint Andrew’s Hall\, 431 E Congress St\, Detroit\, MI\, 48226
CATEGORIES:Concert
ATTACH;FMTTYPE=image/jpeg:https://ferndaleradio.com/wp-content/uploads/2025/11/Happy-Fits_@ANNAKOBLISH-scaled-e1762811237723.jpg
END:VEVENT
END:VCALENDAR