BEGIN:VCALENDAR
VERSION:2.0
PRODID:-//100.7 Ferndale Radio - ECPv6.15.20//NONSGML v1.0//EN
CALSCALE:GREGORIAN
METHOD:PUBLISH
X-ORIGINAL-URL:https://ferndaleradio.com
X-WR-CALDESC:Events for 100.7 Ferndale Radio
REFRESH-INTERVAL;VALUE=DURATION:PT1H
X-Robots-Tag:noindex
X-PUBLISHED-TTL:PT1H
BEGIN:VTIMEZONE
TZID:America/Detroit
BEGIN:DAYLIGHT
TZOFFSETFROM:-0500
TZOFFSETTO:-0400
TZNAME:EDT
DTSTART:20250309T070000
END:DAYLIGHT
BEGIN:STANDARD
TZOFFSETFROM:-0400
TZOFFSETTO:-0500
TZNAME:EST
DTSTART:20251102T060000
END:STANDARD
BEGIN:DAYLIGHT
TZOFFSETFROM:-0500
TZOFFSETTO:-0400
TZNAME:EDT
DTSTART:20260308T070000
END:DAYLIGHT
BEGIN:STANDARD
TZOFFSETFROM:-0400
TZOFFSETTO:-0500
TZNAME:EST
DTSTART:20261101T060000
END:STANDARD
BEGIN:DAYLIGHT
TZOFFSETFROM:-0500
TZOFFSETTO:-0400
TZNAME:EDT
DTSTART:20270314T070000
END:DAYLIGHT
BEGIN:STANDARD
TZOFFSETFROM:-0400
TZOFFSETTO:-0500
TZNAME:EST
DTSTART:20271107T060000
END:STANDARD
END:VTIMEZONE
BEGIN:VEVENT
DTSTART;TZID=America/Detroit:20260403T190000
DTEND;TZID=America/Detroit:20260403T223000
DTSTAMP:20260423T135224
CREATED:20260105T220310Z
LAST-MODIFIED:20260105T220310Z
UID:2101-1775242800-1775255400@ferndaleradio.com
SUMMARY:Ferndale Radio Presents Matt Pryor at The Loving Touch
DESCRIPTION:100.7 Ferndale Radio presents Matt Pryor & The Salton Sea at The Loving Touch in Ferndale on Friday\, April 3\, 2026! Special guests include Small Uncle and Ryan Allen. \nThe Get Up Kids co-founder returns with his seventh solo studio album The Salton Sea\, available now. \nTickets are on sale at ticketweb.com.
URL:https://ferndaleradio.com/event/ferndale-radio-presents-matt-pryor-at-the-loving-touch/
LOCATION:The Loving Touch\, 22634 Woodward Ave\, Ferndale\, MI\, 48220\, United States
CATEGORIES:Concert
ATTACH;FMTTYPE=image/jpeg:https://ferndaleradio.com/wp-content/uploads/2026/01/Matt-Pryor.jpg
END:VEVENT
END:VCALENDAR